BEGIN:VCALENDAR
VERSION:2.0
PRODID:-//wp-events-plugin.com//7.2.2.1//EN
TZID:Asia/Tokyo
X-WR-TIMEZONE:Asia/Tokyo
BEGIN:VEVENT
UID:1@pro.kurashifeed.com
DTSTART;TZID=Asia/Tokyo:20251031T090000
DTEND;TZID=Asia/Tokyo:20251031T100000
DTSTAMP:20251022T112725Z
URL:https://pro.kurashifeed.com/events/%e8%87%aa%e5%96%b6%e6%a5%ad%e8%80%8
 5%e3%83%bb%e5%b0%8f%e8%a6%8f%e6%a8%a1%e4%ba%8b%e6%a5%ad%e8%80%85%e3%81%ae%
 e3%81%9f%e3%82%81%e3%81%ae%e6%8a%95%e8%b3%87%e3%81%ae%e5%9f%ba%e7%a4%8e%e7
 %9f%a5%e8%ad%98
SUMMARY:自営業者・小規模事業者のための投資の基礎知識
DESCRIPTION:自営業者・小規模事業者のための投資の基礎知
 識自営業者・小規模事業者のための投資の基礎知識自
 営業者・小規模事業者のための投資の基礎知識自営業
 者・小規模事業者のための投資の基礎知識自営業者・
 小規模事業者のための投資の基礎知識
ATTACH;FMTTYPE=image/jpeg:https://pro.kurashifeed.com/wp-content/uploads/2
 025/05/fplan.png
LOCATION:https://www.mashupreporter.com/
END:VEVENT
BEGIN:VTIMEZONE
TZID:Asia/Tokyo
X-LIC-LOCATION:Asia/Tokyo
BEGIN:STANDARD
DTSTART:20241031T090000
TZOFFSETFROM:+0900
TZOFFSETTO:+0900
TZNAME:JST
END:STANDARD
END:VTIMEZONE
END:VCALENDAR